BEGIN:VCALENDAR
VERSION:2.0
PRODID:-//Humanity Beyond Barriers - ECPv6.13.2.1//NONSGML v1.0//EN
CALSCALE:GREGORIAN
METHOD:PUBLISH
X-WR-CALNAME:Humanity Beyond Barriers
X-ORIGINAL-URL:https://www.humanitybeyondbarriers.org
X-WR-CALDESC:Events for Humanity Beyond Barriers
REFRESH-INTERVAL;VALUE=DURATION:PT1H
X-Robots-Tag:noindex
X-PUBLISHED-TTL:PT1H
BEGIN:VTIMEZONE
TZID:UTC
BEGIN:STANDARD
TZOFFSETFROM:+0000
TZOFFSETTO:+0000
TZNAME:UTC
DTSTART:20260101T000000
END:STANDARD
END:VTIMEZONE
BEGIN:VEVENT
DTSTART;VALUE=DATE:20260328
DTEND;VALUE=DATE:20260329
DTSTAMP:20260423T233931
CREATED:20250802T161501Z
LAST-MODIFIED:20250802T162812Z
UID:4130-1774656000-1774742399@www.humanitybeyondbarriers.org
SUMMARY:Please Save the Date for HBB’s 10th Anniversary Annual Gala Event –  an evening of reflection\, celebration\, and renewed commitment to the mission we’ve built together. 📅 Date: Saturday evening\, March 28\, 2026; Venue TBD.
DESCRIPTION:Greetings!  We are thrilled to announce a very special milestone — HBB is turning 10!\nPlease Save the Date for our 10th Anniversary Annual Gala Event and Bangladesh Independence Day Celebration –  an evening of reflection\, celebration\, and renewed commitment to the mission we’ve built together.\n📅 Date: Saturday\, March 28\, 2026 📍 Location: To be announced (TBA) 🕔 Time: TBA\nThis gala will be a heartfelt tribute to the incredible journey we’ve shared over the past decade — highlighting the lives we’ve touched\, the challenges we’ve overcome\, and the powerful community bridges we’ve built. We’ll also share exciting plans for the future and how you can continue to be a vital part of our mission.\nPLEASE MARK YOUR CALENDARS — we would be honored to celebrate with you
URL:https://www.humanitybeyondbarriers.org/event/hbb_10th_anniversary/
CATEGORIES:Events1,Events2
END:VEVENT
END:VCALENDAR